BEGIN:VCALENDAR
VERSION:2.0
PRODID:-//MEP FEB UGM - ECPv6.15.20//NONSGML v1.0//EN
CALSCALE:GREGORIAN
METHOD:PUBLISH
X-WR-CALNAME:MEP FEB UGM
X-ORIGINAL-URL:https://mep.feb.ugm.ac.id
X-WR-CALDESC:Events for MEP FEB UGM
REFRESH-INTERVAL;VALUE=DURATION:PT1H
X-Robots-Tag:noindex
X-PUBLISHED-TTL:PT1H
BEGIN:VTIMEZONE
TZID:Asia/Krasnoyarsk
BEGIN:STANDARD
TZOFFSETFROM:+0700
TZOFFSETTO:+0700
TZNAME:+07
DTSTART:20220101T000000
END:STANDARD
END:VTIMEZONE
BEGIN:VEVENT
DTSTART;TZID=Asia/Krasnoyarsk:20230619T080000
DTEND;TZID=Asia/Krasnoyarsk:20230621T160000
DTSTAMP:20260422T072448
CREATED:20230616T120944Z
LAST-MODIFIED:20230616T121045Z
UID:8420-1687161600-1687363200@mep.feb.ugm.ac.id
SUMMARY:Pelatihan Pengembangan Wawasan Keilmuan MIE Universitas Cendrawasih
DESCRIPTION:Pelatihan Pengembangan Wawasan Keilmuan Magister Ilmu Ekonomi Universitas Cendrawasih
URL:https://mep.feb.ugm.ac.id/event/studi-banding-mie-universitas-cendrawasih/
LOCATION:Auditorium Mubyarto\, MEP FEB UGM Jl. Teknika Utara No.2\, Sleman\, Yogyakarta\, 55281\, Indonesia
END:VEVENT
BEGIN:VEVENT
DTSTART;TZID=Asia/Krasnoyarsk:20230525T133000
DTEND;TZID=Asia/Krasnoyarsk:20230525T153000
DTSTAMP:20260422T072448
CREATED:20230523T023536Z
LAST-MODIFIED:20230525T062843Z
UID:8329-1685021400-1685028600@mep.feb.ugm.ac.id
SUMMARY:Softskill Series "Public Speaking"
DESCRIPTION:Kegiatan softskill dengan tema “Public Speaking” dengan menghadirkan narasumber:\nBp. Erik Hadi Saputra\, S.Kom.\, M.Eng.\nMotivator Nasional
URL:https://mep.feb.ugm.ac.id/event/softskill-series-public-speaking/
LOCATION:Auditorium Mubyarto\, MEP FEB UGM Jl. Teknika Utara No.2\, Sleman\, Yogyakarta\, 55281\, Indonesia
CATEGORIES:Kegiatan Akademik
END:VEVENT
BEGIN:VEVENT
DTSTART;TZID=Asia/Krasnoyarsk:20230524T080000
DTEND;TZID=Asia/Krasnoyarsk:20230526T160000
DTSTAMP:20260422T072448
CREATED:20230523T061900Z
LAST-MODIFIED:20230523T062013Z
UID:8337-1684915200-1685116800@mep.feb.ugm.ac.id
SUMMARY:PELATIHAN PERENCANAAN DAN PENGANGGARAN DAERAH
DESCRIPTION:Pelatihan Reguler “Perencanaan dan Pennganggaran Daerah” 24-26 Mei 2023
URL:https://mep.feb.ugm.ac.id/event/pelatihan-perencanaan-dan-penganggaran-daerah/
LOCATION:Auditorium Mubyarto\, MEP FEB UGM Jl. Teknika Utara No.2\, Sleman\, Yogyakarta\, 55281\, Indonesia
CATEGORIES:Pelatihan & Workshop
END:VEVENT
BEGIN:VEVENT
DTSTART;TZID=Asia/Krasnoyarsk:20230522T100000
DTEND;TZID=Asia/Krasnoyarsk:20230526T120000
DTSTAMP:20260422T072448
CREATED:20230523T062625Z
LAST-MODIFIED:20230523T062625Z
UID:8339-1684749600-1685102400@mep.feb.ugm.ac.id
SUMMARY:UAS MEP Matrikulasi 70 & MSI
DESCRIPTION:Ujian Akhir Semester T.A. Genap 2022-2023 Kelas Matrikulasi MEP Angkatan 70 dan Prodi MSI
URL:https://mep.feb.ugm.ac.id/event/uas-mep-matrikulasi-70-msi/
CATEGORIES:Kegiatan Akademik
END:VEVENT
END:VCALENDAR